BEGIN:VCALENDAR
VERSION:2.0
PRODID:-//MFANC
CALSCALE:GREGORIAN
METHOD:PUBLISH
X-WR-CALNAME:MFANC
X-ORIGINAL-URL:https://mfanc.mfaca.org/product/ai-cybersecurity-dinner-may-14/
X-WR-CALDESC:AI &#038; Cybersecurity Dinner &#8211; May 14
BEGIN:VTIMEZONE
TZID:America/Denver
END:VTIMEZONE
BEGIN:VEVENT
DTSTART;TZID=America/Denver:20260514T173000
DTEND;TZID=America/Denver:20260514T193000
DTSTAMP:20260425T143403
UID:10997-richelle@keep-it-growing.com
SUMMARY:AI & Cybersecurity Dinner – May 14
DESCRIPTION:
URL:https://mfanc.mfaca.org/product/ai-cybersecurity-dinner-may-14/
LOCATION:Spin-A-Yarn Restaurant 45915 Warm Springs Blvd. Fremont, CA 94539
END:VEVENT
END:VCALENDAR
